BEGIN:VCALENDAR
VERSION:2.0
PRODID:-//Ciudadanos | Galicia - ECPv4.6.7//NONSGML v1.0//EN
CALSCALE:GREGORIAN
METHOD:PUBLISH
X-WR-CALNAME:Ciudadanos | Galicia
X-ORIGINAL-URL:http://galicia.ciudadanos-cs.org
X-WR-CALDESC:Events for Ciudadanos | Galicia
BEGIN:VEVENT
DTSTART;TZID=UTC+0:20180411T200000
DTEND;TZID=UTC+0:20180412T200000
DTSTAMP:20260419T154950
CREATED:20180410T194127Z
LAST-MODIFIED:20180410T194623Z
UID:3108-1523476800-1523563200@galicia.ciudadanos-cs.org
SUMMARY:PONTEVEDRA: Reunión Preparación Pleno
DESCRIPTION:
URL:http://galicia.ciudadanos-cs.org/evento/pontevedra-reunion-preparacion-pleno-2/
CATEGORIES:Reuniones
END:VEVENT
BEGIN:VEVENT
DTSTART;TZID=UTC+0:20180411T210000
DTEND;TZID=UTC+0:20180411T210000
DTSTAMP:20260419T154950
CREATED:20180410T194549Z
LAST-MODIFIED:20180410T194549Z
UID:3114-1523480400-1523480400@galicia.ciudadanos-cs.org
SUMMARY:ARTEIXO: Visita AAVV Monteagudo
DESCRIPTION:
URL:http://galicia.ciudadanos-cs.org/evento/arteixo-visita-aavv-monteagudo/
CATEGORIES:Reuniones
END:VEVENT
END:VCALENDAR