BEGIN:VCALENDAR
VERSION:2.0
PRODID:-//Ciudadanos | Galicia - ECPv4.6.7//NONSGML v1.0//EN
CALSCALE:GREGORIAN
METHOD:PUBLISH
X-WR-CALNAME:Ciudadanos | Galicia
X-ORIGINAL-URL:http://galicia.ciudadanos-cs.org
X-WR-CALDESC:Events for Ciudadanos | Galicia
BEGIN:VEVENT
DTSTART;TZID=UTC+0:20180410T200000
DTEND;TZID=UTC+0:20180410T200000
DTSTAMP:20260419T172238
CREATED:20180410T052455Z
LAST-MODIFIED:20180410T052455Z
UID:3101-1523390400-1523390400@galicia.ciudadanos-cs.org
SUMMARY:VIGO: Reunión AAVV Matamá
DESCRIPTION:
URL:http://galicia.ciudadanos-cs.org/evento/vigo-reunion-aavv-matama/
CATEGORIES:Reuniones
END:VEVENT
BEGIN:VEVENT
DTSTART;TZID=UTC+0:20180410T203000
DTEND;TZID=UTC+0:20180410T203000
DTSTAMP:20260419T172238
CREATED:20180410T052310Z
LAST-MODIFIED:20180410T052310Z
UID:3097-1523392200-1523392200@galicia.ciudadanos-cs.org
SUMMARY:SANTIAGO: Reunión Junta Directiva
DESCRIPTION:
URL:http://galicia.ciudadanos-cs.org/evento/santiago-reunion-junta-directiva-3/
CATEGORIES:Reuniones
END:VEVENT
END:VCALENDAR