BEGIN:VCALENDAR
VERSION:2.0
PRODID:-//Ciudadanos | Galicia - ECPv4.6.7//NONSGML v1.0//EN
CALSCALE:GREGORIAN
METHOD:PUBLISH
X-WR-CALNAME:Ciudadanos | Galicia
X-ORIGINAL-URL:http://galicia.ciudadanos-cs.org
X-WR-CALDESC:Events for Ciudadanos | Galicia
BEGIN:VEVENT
DTSTART;TZID=UTC+0:20180321T103000
DTEND;TZID=UTC+0:20180321T110000
DTSTAMP:20260423T015542
CREATED:20180320T175944Z
LAST-MODIFIED:20180320T180120Z
UID:2926-1521628200-1521630000@galicia.ciudadanos-cs.org
SUMMARY:CAMBRE: Reunión con la Sección Sindical SPPLBA A Coruña
DESCRIPTION:
URL:http://galicia.ciudadanos-cs.org/evento/cambre-reunion-con-la-seccion-sindical-spplba-a-coruna/
CATEGORIES:Reuniones
END:VEVENT
BEGIN:VEVENT
DTSTART;TZID=UTC+0:20180321T110000
DTEND;TZID=UTC+0:20180321T113000
DTSTAMP:20260423T015542
CREATED:20180320T180456Z
LAST-MODIFIED:20180320T180456Z
UID:2934-1521630000-1521631800@galicia.ciudadanos-cs.org
SUMMARY:PONTEVEDRA: Reunión Comité de Empresa de la Residencia de Mayores
DESCRIPTION:
URL:http://galicia.ciudadanos-cs.org/evento/pontevedra-reunion-comite-de-empresa-de-la-residencia-de-mayores/
CATEGORIES:Reuniones
END:VEVENT
BEGIN:VEVENT
DTSTART;TZID=UTC+0:20180321T190000
DTEND;TZID=UTC+0:20180321T190000
DTSTAMP:20260423T015542
CREATED:20180320T180238Z
LAST-MODIFIED:20180320T180238Z
UID:2930-1521658800-1521658800@galicia.ciudadanos-cs.org
SUMMARY:FERROL: Reunión Junta Directiva
DESCRIPTION:
URL:http://galicia.ciudadanos-cs.org/evento/ferrol-reunion-junta-directiva/
CATEGORIES:Reuniones
END:VEVENT
BEGIN:VEVENT
DTSTART;TZID=UTC+0:20180321T200000
DTEND;TZID=UTC+0:20180321T200000
DTSTAMP:20260423T015542
CREATED:20180320T180345Z
LAST-MODIFIED:20180320T180345Z
UID:2932-1521662400-1521662400@galicia.ciudadanos-cs.org
SUMMARY:FERROL: Asamblea de Afiliados
DESCRIPTION:
URL:http://galicia.ciudadanos-cs.org/evento/ferrol-asamblea-de-afiliados/
CATEGORIES:Reuniones
END:VEVENT
END:VCALENDAR