BEGIN:VCALENDAR
VERSION:2.0
PRODID:-//Ciudadanos | Galicia - ECPv4.6.7//NONSGML v1.0//EN
CALSCALE:GREGORIAN
METHOD:PUBLISH
X-WR-CALNAME:Ciudadanos | Galicia
X-ORIGINAL-URL:http://galicia.ciudadanos-cs.org
X-WR-CALDESC:Events for Ciudadanos | Galicia
BEGIN:VEVENT
DTSTART;TZID=UTC+0:20180319T130000
DTEND;TZID=UTC+0:20180319T133000
DTSTAMP:20260423T051408
CREATED:20180319T075051Z
LAST-MODIFIED:20180319T075051Z
UID:2898-1521464400-1521466200@galicia.ciudadanos-cs.org
SUMMARY:NEGREIRA: Reunión con el Alcalde
DESCRIPTION:
URL:http://galicia.ciudadanos-cs.org/evento/negreira-reunion-con-el-alcalde/
CATEGORIES:Reuniones
END:VEVENT
BEGIN:VEVENT
DTSTART;TZID=UTC+0:20180319T203000
DTEND;TZID=UTC+0:20180319T203000
DTSTAMP:20260423T051408
CREATED:20180319T075256Z
LAST-MODIFIED:20180319T075256Z
UID:2902-1521491400-1521491400@galicia.ciudadanos-cs.org
SUMMARY:CAMBRE: Reunión Presidente AA.VV. Cecebre
DESCRIPTION:
URL:http://galicia.ciudadanos-cs.org/evento/cambre-reunion-presidente-aa-vv-cecebre/
CATEGORIES:Reuniones
END:VEVENT
BEGIN:VEVENT
DTSTART;TZID=UTC+0:20180319T203000
DTEND;TZID=UTC+0:20180319T203000
DTSTAMP:20260423T051408
CREATED:20180319T075412Z
LAST-MODIFIED:20180319T075412Z
UID:2904-1521491400-1521491400@galicia.ciudadanos-cs.org
SUMMARY:NARÓN: Reunión AA.VV. Freixeiro "Virxe de Fátima"
DESCRIPTION:
URL:http://galicia.ciudadanos-cs.org/evento/naron-reunion-aa-vv-freixeiro-virxe-de-fatima/
CATEGORIES:Reuniones
END:VEVENT
BEGIN:VEVENT
DTSTART;TZID=UTC+0:20180319T210000
DTEND;TZID=UTC+0:20180319T210000
DTSTAMP:20260423T051408
CREATED:20180319T075149Z
LAST-MODIFIED:20180319T075149Z
UID:2900-1521493200-1521493200@galicia.ciudadanos-cs.org
SUMMARY:A CORUÑA: Reunión Junta Directiva
DESCRIPTION:
URL:http://galicia.ciudadanos-cs.org/evento/a-coruna-reunion-junta-directiva-2/
CATEGORIES:Reuniones
END:VEVENT
END:VCALENDAR