BEGIN:VCALENDAR
VERSION:2.0
PRODID:-//Ciudadanos | Galicia - ECPv4.6.7//NONSGML v1.0//EN
CALSCALE:GREGORIAN
METHOD:PUBLISH
X-WR-CALNAME:Ciudadanos | Galicia
X-ORIGINAL-URL:http://galicia.ciudadanos-cs.org
X-WR-CALDESC:Events for Ciudadanos | Galicia
BEGIN:VEVENT
DTSTART;TZID=UTC+0:20180314T100000
DTEND;TZID=UTC+0:20180314T103000
DTSTAMP:20260423T141315
CREATED:20180314T211636Z
LAST-MODIFIED:20180314T211636Z
UID:2870-1521021600-1521023400@galicia.ciudadanos-cs.org
SUMMARY:PONTEVEDRA: Mesa de Contratación
DESCRIPTION:
URL:http://galicia.ciudadanos-cs.org/evento/pontevedra-mesa-de-contratacion-4/
CATEGORIES:Reuniones
END:VEVENT
BEGIN:VEVENT
DTSTART;TZID=UTC+0:20180314T110000
DTEND;TZID=UTC+0:20180314T170000
DTSTAMP:20260423T141315
CREATED:20180314T121722Z
LAST-MODIFIED:20180314T121927Z
UID:2863-1521025200-1521046800@galicia.ciudadanos-cs.org
SUMMARY:PONTEVEDRA: Reunión Servicios Sociales
DESCRIPTION:
URL:http://galicia.ciudadanos-cs.org/evento/pontevedra-reunion-servicios-sociales/
CATEGORIES:Reuniones
END:VEVENT
BEGIN:VEVENT
DTSTART;TZID=UTC+0:20180314T190000
DTEND;TZID=UTC+0:20180314T200000
DTSTAMP:20260423T141315
CREATED:20180314T211907Z
LAST-MODIFIED:20180314T211907Z
UID:2874-1521054000-1521057600@galicia.ciudadanos-cs.org
SUMMARY:CAMBRE: Reunión Junta Directiva
DESCRIPTION:
URL:http://galicia.ciudadanos-cs.org/evento/cambre-reunion-junta-directiva/
CATEGORIES:Reuniones
END:VEVENT
BEGIN:VEVENT
DTSTART;TZID=UTC+0:20180314T193000
DTEND;TZID=UTC+0:20180314T193000
DTSTAMP:20260423T141315
CREATED:20180314T121844Z
LAST-MODIFIED:20180314T121844Z
UID:2865-1521055800-1521055800@galicia.ciudadanos-cs.org
SUMMARY:PONTEVEDRA: Reunión Preparación Pleno
DESCRIPTION:
URL:http://galicia.ciudadanos-cs.org/evento/pontevedra-reunion-preparacion-pleno/
CATEGORIES:Reuniones
END:VEVENT
BEGIN:VEVENT
DTSTART;TZID=UTC+0:20180314T200000
DTEND;TZID=UTC+0:20180314T203000
DTSTAMP:20260423T141315
CREATED:20180314T212012Z
LAST-MODIFIED:20180314T212012Z
UID:2876-1521057600-1521059400@galicia.ciudadanos-cs.org
SUMMARY:CAMBRE: Asamblea de Afiliados
DESCRIPTION:
URL:http://galicia.ciudadanos-cs.org/evento/cambre-asamblea-de-afiliados/
CATEGORIES:Reuniones
END:VEVENT
END:VCALENDAR