BEGIN:VCALENDAR
VERSION:2.0
PRODID:-//Ciudadanos | Galicia - ECPv4.6.7//NONSGML v1.0//EN
CALSCALE:GREGORIAN
METHOD:PUBLISH
X-WR-CALNAME:Ciudadanos | Galicia
X-ORIGINAL-URL:http://galicia.ciudadanos-cs.org
X-WR-CALDESC:Events for Ciudadanos | Galicia
BEGIN:VEVENT
DTSTART;TZID=UTC+0:20180306T123000
DTEND;TZID=UTC+0:20180306T133000
DTSTAMP:20260424T161708
CREATED:20180305T202115Z
LAST-MODIFIED:20180305T202115Z
UID:2792-1520339400-1520343000@galicia.ciudadanos-cs.org
SUMMARY:PONTEVEDRA: Reunión con jefe de deportes Jaime Agulló
DESCRIPTION:
URL:http://galicia.ciudadanos-cs.org/evento/pontevedra-reunion-con-jefe-de-deportes-jaime-agullo/
CATEGORIES:Reuniones
END:VEVENT
BEGIN:VEVENT
DTSTART;TZID=UTC+0:20180306T200000
DTEND;TZID=UTC+0:20180306T213000
DTSTAMP:20260424T161708
CREATED:20180305T201740Z
LAST-MODIFIED:20180305T201740Z
UID:2784-1520366400-1520371800@galicia.ciudadanos-cs.org
SUMMARY:VIGO: Reunión con Asociación de Taxistas Vigo
DESCRIPTION:
URL:http://galicia.ciudadanos-cs.org/evento/vigo-reunion-con-asociacion-de-taxistas-vigo/
CATEGORIES:Reuniones
END:VEVENT
BEGIN:VEVENT
DTSTART;TZID=UTC+0:20180306T203000
DTEND;TZID=UTC+0:20180306T220000
DTSTAMP:20260424T161708
CREATED:20180305T201831Z
LAST-MODIFIED:20180305T201831Z
UID:2786-1520368200-1520373600@galicia.ciudadanos-cs.org
SUMMARY:NARÓN: Reunión con AAVV O Val
DESCRIPTION:
URL:http://galicia.ciudadanos-cs.org/evento/naron-reunion-con-aavv-o-val/
CATEGORIES:Reuniones
END:VEVENT
END:VCALENDAR