BEGIN:VCALENDAR
VERSION:2.0
PRODID:-//Ciudadanos | Galicia - ECPv4.6.7//NONSGML v1.0//EN
CALSCALE:GREGORIAN
METHOD:PUBLISH
X-WR-CALNAME:Ciudadanos | Galicia
X-ORIGINAL-URL:http://galicia.ciudadanos-cs.org
X-WR-CALDESC:Events for Ciudadanos | Galicia
BEGIN:VEVENT
DTSTART;TZID=UTC+0:20180214T193000
DTEND;TZID=UTC+0:20180214T203000
DTSTAMP:20260425T233609
CREATED:20180214T073201Z
LAST-MODIFIED:20180214T073201Z
UID:2656-1518636600-1518640200@galicia.ciudadanos-cs.org
SUMMARY:OURENSE: Reunión con el Colegio de Economistas
DESCRIPTION:
URL:http://galicia.ciudadanos-cs.org/evento/ourense-reunion-con-el-colegio-de-economistas/
CATEGORIES:Reuniones
END:VEVENT
END:VCALENDAR