BEGIN:VCALENDAR
VERSION:2.0
PRODID:-//Ciudadanos | Galicia - ECPv4.6.7//NONSGML v1.0//EN
CALSCALE:GREGORIAN
METHOD:PUBLISH
X-WR-CALNAME:Ciudadanos | Galicia
X-ORIGINAL-URL:http://galicia.ciudadanos-cs.org
X-WR-CALDESC:Events for Ciudadanos | Galicia
BEGIN:VEVENT
DTSTART;TZID=UTC+0:20180212T193000
DTEND;TZID=UTC+0:20180212T203000
DTSTAMP:20260426T023632
CREATED:20180212T080739Z
LAST-MODIFIED:20180212T080849Z
UID:2634-1518463800-1518467400@galicia.ciudadanos-cs.org
SUMMARY:OURENSE: Reunión con Responsables del Área Ciudadana
DESCRIPTION:
URL:http://galicia.ciudadanos-cs.org/evento/reunion-con-responsables-del-area-ciudadana/
CATEGORIES:Reuniones
END:VEVENT
BEGIN:VEVENT
DTSTART;TZID=UTC+0:20180212T203000
DTEND;TZID=UTC+0:20180212T213000
DTSTAMP:20260426T023632
CREATED:20180212T080953Z
LAST-MODIFIED:20180212T080953Z
UID:2637-1518467400-1518471000@galicia.ciudadanos-cs.org
SUMMARY:VIGO: Reunión Junta Directiva
DESCRIPTION:
URL:http://galicia.ciudadanos-cs.org/evento/vigo-reunion-junta-directiva/
CATEGORIES:Reuniones
END:VEVENT
END:VCALENDAR