BEGIN:VCALENDAR
VERSION:2.0
PRODID:-//Ciudadanos | Galicia - ECPv4.6.7//NONSGML v1.0//EN
CALSCALE:GREGORIAN
METHOD:PUBLISH
X-WR-CALNAME:Ciudadanos | Galicia
X-ORIGINAL-URL:http://galicia.ciudadanos-cs.org
X-WR-CALDESC:Events for Ciudadanos | Galicia
BEGIN:VEVENT
DTSTART;TZID=UTC+0:20180704T200000
DTEND;TZID=UTC+0:20180704T200000
DTSTAMP:20260423T134204
CREATED:20180703T181252Z
LAST-MODIFIED:20180703T181252Z
UID:4020-1530734400-1530734400@galicia.ciudadanos-cs.org
SUMMARY:VIGO: Café Ciudadano “Políticas Movilidad para Vigo”
DESCRIPTION:
URL:http://galicia.ciudadanos-cs.org/evento/vigo-cafe-ciudadano-politicas-movilidad-para-vigo/
CATEGORIES:Cafés ciudadanos
END:VEVENT
END:VCALENDAR