BEGIN:VCALENDAR
VERSION:2.0
PRODID:-//Ciudadanos | Galicia - ECPv4.6.7//NONSGML v1.0//EN
CALSCALE:GREGORIAN
METHOD:PUBLISH
X-WR-CALNAME:Ciudadanos | Galicia
X-ORIGINAL-URL:http://galicia.ciudadanos-cs.org
X-WR-CALDESC:Events for Ciudadanos | Galicia
BEGIN:VEVENT
DTSTART;TZID=UTC+0:20180710T203000
DTEND;TZID=UTC+0:20180710T203000
DTSTAMP:20260420T084801
CREATED:20180710T043245Z
LAST-MODIFIED:20180710T043245Z
UID:4082-1531254600-1531254600@galicia.ciudadanos-cs.org
SUMMARY:SANTIAGO: Reunión Junta directiva
DESCRIPTION:
URL:http://galicia.ciudadanos-cs.org/evento/santiago-reunion-junta-directiva-10/
CATEGORIES:Reuniones
END:VEVENT
END:VCALENDAR