BEGIN:VCALENDAR
VERSION:2.0
PRODID:-//Ciudadanos | Galicia - ECPv4.6.7//NONSGML v1.0//EN
CALSCALE:GREGORIAN
METHOD:PUBLISH
X-WR-CALNAME:Ciudadanos | Galicia
X-ORIGINAL-URL:http://galicia.ciudadanos-cs.org
X-WR-CALDESC:Events for Ciudadanos | Galicia
BEGIN:VEVENT
DTSTART;TZID=UTC+0:20170911T130000
DTEND;TZID=UTC+0:20170911T140000
DTSTAMP:20260426T014203
CREATED:20170911T043029Z
LAST-MODIFIED:20170911T043029Z
UID:1842-1505134800-1505138400@galicia.ciudadanos-cs.org
SUMMARY:RIBEIRA: Reunión con el personal de Recolte
DESCRIPTION:
URL:http://galicia.ciudadanos-cs.org/evento/ribeira-reunion-con-el-personal-de-recolte/
CATEGORIES:Reuniones
END:VEVENT
END:VCALENDAR