BEGIN:VCALENDAR
VERSION:2.0
PRODID:-//Ciudadanos | Galicia - ECPv4.6.7//NONSGML v1.0//EN
CALSCALE:GREGORIAN
METHOD:PUBLISH
X-WR-CALNAME:Ciudadanos | Galicia
X-ORIGINAL-URL:http://galicia.ciudadanos-cs.org
X-WR-CALDESC:Events for Ciudadanos | Galicia
BEGIN:VEVENT
DTSTART;TZID=UTC+0:20180703T130000
DTEND;TZID=UTC+0:20180703T170000
DTSTAMP:20260424T034447
CREATED:20180703T051255Z
LAST-MODIFIED:20180703T051255Z
UID:3995-1530622800-1530637200@galicia.ciudadanos-cs.org
SUMMARY:RIBEIRA: Café con Europa
DESCRIPTION:
URL:http://galicia.ciudadanos-cs.org/evento/ribeira-cafe-con-europa/
CATEGORIES:Actos
END:VEVENT
END:VCALENDAR