BEGIN:VCALENDAR
VERSION:2.0
PRODID:-//Ciudadanos | Galicia - ECPv4.6.7//NONSGML v1.0//EN
CALSCALE:GREGORIAN
METHOD:PUBLISH
X-WR-CALNAME:Ciudadanos | Galicia
X-ORIGINAL-URL:http://galicia.ciudadanos-cs.org
X-WR-CALDESC:Events for Ciudadanos | Galicia
BEGIN:VEVENT
DTSTART;TZID=UTC+0:20180709T090000
DTEND;TZID=UTC+0:20180709T170000
DTSTAMP:20260422T173241
CREATED:20180709T050232Z
LAST-MODIFIED:20180709T050232Z
UID:4070-1531126800-1531155600@galicia.ciudadanos-cs.org
SUMMARY:PONTEVEDRA: Mesa de Contratación
DESCRIPTION:
URL:http://galicia.ciudadanos-cs.org/evento/pontevedra-mesa-de-contratacion-13/
CATEGORIES:Mesa de Contratación
END:VEVENT
END:VCALENDAR