BEGIN:VCALENDAR
VERSION:2.0
PRODID:-//Ciudadanos | Galicia - ECPv4.6.7//NONSGML v1.0//EN
CALSCALE:GREGORIAN
METHOD:PUBLISH
X-WR-CALNAME:Ciudadanos | Galicia
X-ORIGINAL-URL:http://galicia.ciudadanos-cs.org
X-WR-CALDESC:Events for Ciudadanos | Galicia
BEGIN:VEVENT
DTSTART;TZID=UTC+0:20180710T093000
DTEND;TZID=UTC+0:20180710T170000
DTSTAMP:20260422T120842
CREATED:20180710T042920Z
LAST-MODIFIED:20180710T042920Z
UID:4078-1531215000-1531242000@galicia.ciudadanos-cs.org
SUMMARY:PONTEVEDRA: Junta de Portavoces
DESCRIPTION:
URL:http://galicia.ciudadanos-cs.org/evento/pontevedra-junta-de-portavoces-7/
CATEGORIES:Junta de Portavoces
END:VEVENT
END:VCALENDAR