BEGIN:VCALENDAR
VERSION:2.0
PRODID:-//Ciudadanos | Galicia - ECPv4.6.7//NONSGML v1.0//EN
CALSCALE:GREGORIAN
METHOD:PUBLISH
X-WR-CALNAME:Ciudadanos | Galicia
X-ORIGINAL-URL:http://galicia.ciudadanos-cs.org
X-WR-CALDESC:Events for Ciudadanos | Galicia
BEGIN:VEVENT
DTSTART;TZID=UTC+0:20180719T130000
DTEND;TZID=UTC+0:20180719T170000
DTSTAMP:20260419T161238
CREATED:20180719T052551Z
LAST-MODIFIED:20180719T052551Z
UID:4212-1532005200-1532019600@galicia.ciudadanos-cs.org
SUMMARY:PONTEVEDRA: Inauguración Feria Atlántica de Artesanía y Diseño "Chalana"
DESCRIPTION:
URL:http://galicia.ciudadanos-cs.org/evento/pontevedra-inauguracion-feria-atlantica-de-artesania-y-diseno-chalana/
CATEGORIES:Actos
END:VEVENT
END:VCALENDAR