BEGIN:VCALENDAR
VERSION:2.0
PRODID:-//Ciudadanos | Galicia - ECPv4.6.7//NONSGML v1.0//EN
CALSCALE:GREGORIAN
METHOD:PUBLISH
X-WR-CALNAME:Ciudadanos | Galicia
X-ORIGINAL-URL:http://galicia.ciudadanos-cs.org
X-WR-CALDESC:Events for Ciudadanos | Galicia
BEGIN:VEVENT
DTSTART;TZID=UTC+0:20181122T190000
DTEND;TZID=UTC+0:20181122T203000
DTSTAMP:20260424T153938
CREATED:20181122T074725Z
LAST-MODIFIED:20181122T074725Z
UID:5268-1542913200-1542918600@galicia.ciudadanos-cs.org
SUMMARY:PONTEVEDRA. Encuentro "Transformaciones urbanas e Calidade de vida".
DESCRIPTION:
URL:http://galicia.ciudadanos-cs.org/evento/pontevedra-encuentro-transformaciones-urbanas-e-calidade-de-vida/
CATEGORIES:Charlas
END:VEVENT
END:VCALENDAR