BEGIN:VCALENDAR
VERSION:2.0
PRODID:-//Ciudadanos | Galicia - ECPv4.6.7//NONSGML v1.0//EN
CALSCALE:GREGORIAN
METHOD:PUBLISH
X-WR-CALNAME:Ciudadanos | Galicia
X-ORIGINAL-URL:http://galicia.ciudadanos-cs.org
X-WR-CALDESC:Events for Ciudadanos | Galicia
BEGIN:VEVENT
DTSTART;TZID=UTC+0:20181123T100000
DTEND;TZID=UTC+0:20181123T110000
DTSTAMP:20260424T155655
CREATED:20181123T060939Z
LAST-MODIFIED:20181123T060939Z
UID:5277-1542967200-1542970800@galicia.ciudadanos-cs.org
SUMMARY:PONTEVEDRA. Consello de administración Turismo de Pontevedra.
DESCRIPTION:
URL:http://galicia.ciudadanos-cs.org/evento/pontevedra-consello-de-administracion-turismo-de-pontevedra/
CATEGORIES:CONSEJOS
END:VEVENT
END:VCALENDAR