BEGIN:VCALENDAR
VERSION:2.0
PRODID:-//Ciudadanos | Galicia - ECPv4.6.7//NONSGML v1.0//EN
CALSCALE:GREGORIAN
METHOD:PUBLISH
X-WR-CALNAME:Ciudadanos | Galicia
X-ORIGINAL-URL:http://galicia.ciudadanos-cs.org
X-WR-CALDESC:Events for Ciudadanos | Galicia
BEGIN:VEVENT
DTSTART;TZID=UTC+0:20180912T110000
DTEND;TZID=UTC+0:20180912T120000
DTSTAMP:20260425T015354
CREATED:20180912T040955Z
LAST-MODIFIED:20180912T040955Z
UID:4444-1536750000-1536753600@galicia.ciudadanos-cs.org
SUMMARY:PONTEVEDRA. Comisión urbanismo
DESCRIPTION:
URL:http://galicia.ciudadanos-cs.org/evento/pontevedra-comision-urbanismo/
CATEGORIES:Comisiones
END:VEVENT
END:VCALENDAR