BEGIN:VCALENDAR
VERSION:2.0
PRODID:-//Ciudadanos | Galicia - ECPv4.6.7//NONSGML v1.0//EN
CALSCALE:GREGORIAN
METHOD:PUBLISH
X-WR-CALNAME:Ciudadanos | Galicia
X-ORIGINAL-URL:http://galicia.ciudadanos-cs.org
X-WR-CALDESC:Events for Ciudadanos | Galicia
BEGIN:VEVENT
DTSTART;TZID=UTC+0:20170911T130000
DTEND;TZID=UTC+0:20170911T140000
DTSTAMP:20260426T014938
CREATED:20170911T043342Z
LAST-MODIFIED:20170911T043342Z
UID:1848-1505134800-1505138400@galicia.ciudadanos-cs.org
SUMMARY:PONTEVEDRA: Comisión de régimen interior\, participación\, personal y justicia
DESCRIPTION:
URL:http://galicia.ciudadanos-cs.org/evento/pontevedra-comision-de-regimen-interior-participacion-personal-y-justicia/
CATEGORIES:Comisiones
END:VEVENT
END:VCALENDAR