BEGIN:VCALENDAR
VERSION:2.0
PRODID:-//Ciudadanos | Galicia - ECPv4.6.7//NONSGML v1.0//EN
CALSCALE:GREGORIAN
METHOD:PUBLISH
X-WR-CALNAME:Ciudadanos | Galicia
X-ORIGINAL-URL:http://galicia.ciudadanos-cs.org
X-WR-CALDESC:Events for Ciudadanos | Galicia
BEGIN:VEVENT
DTSTART;TZID=UTC+0:20180502T100000
DTEND;TZID=UTC+0:20180502T170000
DTSTAMP:20260419T124702
CREATED:20180501T164429Z
LAST-MODIFIED:20180501T164429Z
UID:3356-1525255200-1525280400@galicia.ciudadanos-cs.org
SUMMARY:PONTEVEDRA: Comisión de movilidad
DESCRIPTION:
URL:http://galicia.ciudadanos-cs.org/evento/pontevedra-comision-de-movilidad-3/
CATEGORIES:Comisiones
END:VEVENT
END:VCALENDAR