BEGIN:VCALENDAR
VERSION:2.0
PRODID:-//Ciudadanos | Galicia - ECPv4.6.7//NONSGML v1.0//EN
CALSCALE:GREGORIAN
METHOD:PUBLISH
X-WR-CALNAME:Ciudadanos | Galicia
X-ORIGINAL-URL:http://galicia.ciudadanos-cs.org
X-WR-CALDESC:Events for Ciudadanos | Galicia
BEGIN:VEVENT
DTSTART;TZID=UTC+0:20170911T120000
DTEND;TZID=UTC+0:20170911T130000
DTSTAMP:20260425T225610
CREATED:20170911T043305Z
LAST-MODIFIED:20170911T043305Z
UID:1846-1505131200-1505134800@galicia.ciudadanos-cs.org
SUMMARY:PONTEVEDRA: Comisión de economía y hacienda y especial de cuentas
DESCRIPTION:
URL:http://galicia.ciudadanos-cs.org/evento/pontevedra-comision-de-economia-y-hacienda-y-especial-de-cuentas/
CATEGORIES:Comisiones
END:VEVENT
END:VCALENDAR