BEGIN:VCALENDAR
VERSION:2.0
PRODID:-//Ciudadanos | Galicia - ECPv4.6.7//NONSGML v1.0//EN
CALSCALE:GREGORIAN
METHOD:PUBLISH
X-WR-CALNAME:Ciudadanos | Galicia
X-ORIGINAL-URL:http://galicia.ciudadanos-cs.org
X-WR-CALDESC:Events for Ciudadanos | Galicia
BEGIN:VEVENT
DTSTART;TZID=UTC+0:20181121T190000
DTEND;TZID=UTC+0:20181121T200000
DTSTAMP:20260424T120626
CREATED:20181121T060459Z
LAST-MODIFIED:20181121T060459Z
UID:5251-1542826800-1542830400@galicia.ciudadanos-cs.org
SUMMARY:PONTEVEDRA. Asamblea Vecinos Barrio Mollabao.
DESCRIPTION:
URL:http://galicia.ciudadanos-cs.org/evento/pontevedra-asamblea-vecinos-barrio-mollabao/
CATEGORIES:Asambleas
END:VEVENT
END:VCALENDAR