BEGIN:VCALENDAR
VERSION:2.0
PRODID:-//Ciudadanos | Galicia - ECPv4.6.7//NONSGML v1.0//EN
CALSCALE:GREGORIAN
METHOD:PUBLISH
X-WR-CALNAME:Ciudadanos | Galicia
X-ORIGINAL-URL:http://galicia.ciudadanos-cs.org
X-WR-CALDESC:Events for Ciudadanos | Galicia
BEGIN:VEVENT
DTSTART;TZID=UTC+0:20181121T200000
DTEND;TZID=UTC+0:20181121T210000
DTSTAMP:20260424T120504
CREATED:20181121T060558Z
LAST-MODIFIED:20181121T060558Z
UID:5253-1542830400-1542834000@galicia.ciudadanos-cs.org
SUMMARY:OURENSE. CAFÉ CIUDADANO
DESCRIPTION:
URL:http://galicia.ciudadanos-cs.org/evento/ourense-cafe-ciudadano/
CATEGORIES:Cafés ciudadanos
END:VEVENT
END:VCALENDAR