BEGIN:VCALENDAR
VERSION:2.0
PRODID:-//Ciudadanos | Galicia - ECPv4.6.7//NONSGML v1.0//EN
CALSCALE:GREGORIAN
METHOD:PUBLISH
X-WR-CALNAME:Ciudadanos | Galicia
X-ORIGINAL-URL:http://galicia.ciudadanos-cs.org
X-WR-CALDESC:Events for Ciudadanos | Galicia
BEGIN:VEVENT
DTSTART;TZID=UTC+0:20190131T190000
DTEND;TZID=UTC+0:20190131T210000
DTSTAMP:20260426T021832
CREATED:20190131T055154Z
LAST-MODIFIED:20190131T055154Z
UID:5726-1548961200-1548968400@galicia.ciudadanos-cs.org
SUMMARY:OROSO. Pleno municipal
DESCRIPTION:
URL:http://galicia.ciudadanos-cs.org/evento/oroso-pleno-municipal/
CATEGORIES:Plenos
END:VEVENT
END:VCALENDAR