BEGIN:VCALENDAR
VERSION:2.0
PRODID:-//Ciudadanos | Galicia - ECPv4.6.7//NONSGML v1.0//EN
CALSCALE:GREGORIAN
METHOD:PUBLISH
X-WR-CALNAME:Ciudadanos | Galicia
X-ORIGINAL-URL:http://galicia.ciudadanos-cs.org
X-WR-CALDESC:Events for Ciudadanos | Galicia
BEGIN:VEVENT
DTSTART;TZID=UTC+0:20180705T100000
DTEND;TZID=UTC+0:20180705T170000
DTSTAMP:20260423T115125
CREATED:20180705T051348Z
LAST-MODIFIED:20180705T051348Z
UID:4031-1530784800-1530810000@galicia.ciudadanos-cs.org
SUMMARY:LUGO: Mesa Local de Comercio
DESCRIPTION:
URL:http://galicia.ciudadanos-cs.org/evento/lugo-mesa-local-de-comercio/
CATEGORIES:Reuniones
END:VEVENT
END:VCALENDAR