BEGIN:VCALENDAR
VERSION:2.0
PRODID:-//Ciudadanos | Galicia - ECPv4.6.7//NONSGML v1.0//EN
CALSCALE:GREGORIAN
METHOD:PUBLISH
X-WR-CALNAME:Ciudadanos | Galicia
X-ORIGINAL-URL:http://galicia.ciudadanos-cs.org
X-WR-CALDESC:Events for Ciudadanos | Galicia
BEGIN:VEVENT
DTSTART;TZID=UTC+0:20181122T110000
DTEND;TZID=UTC+0:20181122T120000
DTSTAMP:20260424T133614
CREATED:20181122T074438Z
LAST-MODIFIED:20181122T074438Z
UID:5264-1542884400-1542888000@galicia.ciudadanos-cs.org
SUMMARY:LUGO. Comisión Sugestiones y reclamaciones
DESCRIPTION:
URL:http://galicia.ciudadanos-cs.org/evento/lugo-comision-sugestiones-y-reclamaciones/
CATEGORIES:Comisiones
END:VEVENT
END:VCALENDAR