BEGIN:VCALENDAR
VERSION:2.0
PRODID:-//Ciudadanos | Galicia - ECPv4.6.7//NONSGML v1.0//EN
CALSCALE:GREGORIAN
METHOD:PUBLISH
X-WR-CALNAME:Ciudadanos | Galicia
X-ORIGINAL-URL:http://galicia.ciudadanos-cs.org
X-WR-CALDESC:Events for Ciudadanos | Galicia
BEGIN:VEVENT
DTSTART;TZID=UTC+0:20180710T093000
DTEND;TZID=UTC+0:20180710T170000
DTSTAMP:20260422T102644
CREATED:20180710T043043Z
LAST-MODIFIED:20180710T043043Z
UID:4080-1531215000-1531242000@galicia.ciudadanos-cs.org
SUMMARY:LUGO: Comisión de Fiestas Arde Lucus
DESCRIPTION:
URL:http://galicia.ciudadanos-cs.org/evento/lugo-comision-de-fiestas-arde-lucus/
CATEGORIES:Reuniones
END:VEVENT
END:VCALENDAR