BEGIN:VCALENDAR
VERSION:2.0
PRODID:-//Ciudadanos | Galicia - ECPv4.6.7//NONSGML v1.0//EN
CALSCALE:GREGORIAN
METHOD:PUBLISH
X-WR-CALNAME:Ciudadanos | Galicia
X-ORIGINAL-URL:http://galicia.ciudadanos-cs.org
X-WR-CALDESC:Events for Ciudadanos | Galicia
BEGIN:VEVENT
DTSTART;TZID=UTC+0:20180629T203000
DTEND;TZID=UTC+0:20180629T203000
DTSTAMP:20260424T103025
CREATED:20180629T052519Z
LAST-MODIFIED:20180629T052519Z
UID:3980-1530304200-1530304200@galicia.ciudadanos-cs.org
SUMMARY:LUGO: “Baila pola Diversidade con Orgullo”\, Exhibición e Masterclass de Baile
DESCRIPTION:
URL:http://galicia.ciudadanos-cs.org/evento/lugo-baila-pola-diversidade-con-orgullo-exhibicion-e-masterclass-de-baile/
CATEGORIES:Actos
END:VEVENT
END:VCALENDAR