BEGIN:VCALENDAR
VERSION:2.0
PRODID:-//Ciudadanos | Galicia - ECPv4.6.7//NONSGML v1.0//EN
CALSCALE:GREGORIAN
METHOD:PUBLISH
X-WR-CALNAME:Ciudadanos | Galicia
X-ORIGINAL-URL:http://galicia.ciudadanos-cs.org
X-WR-CALDESC:Events for Ciudadanos | Galicia
BEGIN:VEVENT
DTSTART;TZID=UTC+0:20180913T100000
DTEND;TZID=UTC+0:20180913T110000
DTSTAMP:20260425T002308
CREATED:20180913T035555Z
LAST-MODIFIED:20180913T035555Z
UID:4460-1536832800-1536836400@galicia.ciudadanos-cs.org
SUMMARY:GALICIA. Entrevista Olga Louzao\, voceira Cs Galicia no “Bos Días”\, TVG
DESCRIPTION:
URL:http://galicia.ciudadanos-cs.org/evento/galicia-entrevista-olga-louzao-voceira-cs-galicia-no-bos-dias-tvg/
CATEGORIES:Intervención en medios de comunicación
END:VEVENT
END:VCALENDAR