BEGIN:VCALENDAR
VERSION:2.0
PRODID:-//Ciudadanos | Galicia - ECPv4.6.7//NONSGML v1.0//EN
CALSCALE:GREGORIAN
METHOD:PUBLISH
X-WR-CALNAME:Ciudadanos | Galicia
X-ORIGINAL-URL:http://galicia.ciudadanos-cs.org
X-WR-CALDESC:Events for Ciudadanos | Galicia
BEGIN:VEVENT
DTSTART;TZID=UTC+0:20180706T123000
DTEND;TZID=UTC+0:20180706T170000
DTSTAMP:20260423T014604
CREATED:20180706T052543Z
LAST-MODIFIED:20180706T052543Z
UID:4054-1530880200-1530896400@galicia.ciudadanos-cs.org
SUMMARY:FERROL: Entrevista a Ana Masafret en Cadena SER Ferrol
DESCRIPTION:
URL:http://galicia.ciudadanos-cs.org/evento/ferrol-entrevista-a-ana-masafret-en-cadena-ser-ferrol/
CATEGORIES:Intervención en medios de comunicación
END:VEVENT
END:VCALENDAR