BEGIN:VCALENDAR
VERSION:2.0
PRODID:-//Ciudadanos | Galicia - ECPv4.6.7//NONSGML v1.0//EN
CALSCALE:GREGORIAN
METHOD:PUBLISH
X-WR-CALNAME:Ciudadanos | Galicia
X-ORIGINAL-URL:http://galicia.ciudadanos-cs.org
X-WR-CALDESC:Events for Ciudadanos | Galicia
BEGIN:VEVENT
DTSTART;TZID=UTC+0:20180705T213000
DTEND;TZID=UTC+0:20180705T213000
DTSTAMP:20260423T032719
CREATED:20180705T051842Z
LAST-MODIFIED:20180705T051842Z
UID:4037-1530826200-1530826200@galicia.ciudadanos-cs.org
SUMMARY:FERROL: Debate en TV Ferrol
DESCRIPTION:
URL:http://galicia.ciudadanos-cs.org/evento/ferrol-debate-en-tv-ferrol/
CATEGORIES:Intervención en medios de comunicación
END:VEVENT
END:VCALENDAR