BEGIN:VCALENDAR
VERSION:2.0
PRODID:-//Ciudadanos | Galicia - ECPv4.6.7//NONSGML v1.0//EN
CALSCALE:GREGORIAN
METHOD:PUBLISH
X-WR-CALNAME:Ciudadanos | Galicia
X-ORIGINAL-URL:http://galicia.ciudadanos-cs.org
X-WR-CALDESC:Events for Ciudadanos | Galicia
BEGIN:VEVENT
DTSTART;TZID=UTC+0:20180918T110000
DTEND;TZID=UTC+0:20180918T123000
DTSTAMP:20260425T124520
CREATED:20180918T034643Z
LAST-MODIFIED:20180918T034643Z
UID:4510-1537268400-1537273800@galicia.ciudadanos-cs.org
SUMMARY:FERROL. Comisión de Economía
DESCRIPTION:
URL:http://galicia.ciudadanos-cs.org/evento/ferrol-comision-de-economia-3/
CATEGORIES:Comisiones
END:VEVENT
END:VCALENDAR