BEGIN:VCALENDAR
VERSION:2.0
PRODID:-//Ciudadanos | Galicia - ECPv4.6.7//NONSGML v1.0//EN
CALSCALE:GREGORIAN
METHOD:PUBLISH
X-WR-CALNAME:Ciudadanos | Galicia
X-ORIGINAL-URL:http://galicia.ciudadanos-cs.org
X-WR-CALDESC:Events for Ciudadanos | Galicia
BEGIN:VEVENT
DTSTART;TZID=UTC+0:20180712T140000
DTEND;TZID=UTC+0:20180712T170000
DTSTAMP:20260420T032428
CREATED:20180712T045000Z
LAST-MODIFIED:20180712T045000Z
UID:4107-1531404000-1531414800@galicia.ciudadanos-cs.org
SUMMARY:CAMBRE: Junta de Portavoces
DESCRIPTION:
URL:http://galicia.ciudadanos-cs.org/evento/cambre-junta-de-portavoces-6/
CATEGORIES:Junta de Portavoces
END:VEVENT
END:VCALENDAR