BEGIN:VCALENDAR
VERSION:2.0
PRODID:-//Ciudadanos | Galicia - ECPv4.6.7//NONSGML v1.0//EN
CALSCALE:GREGORIAN
METHOD:PUBLISH
X-WR-CALNAME:Ciudadanos | Galicia
X-ORIGINAL-URL:http://galicia.ciudadanos-cs.org
X-WR-CALDESC:Events for Ciudadanos | Galicia
BEGIN:VEVENT
DTSTART;TZID=UTC+0:20180713T180000
DTEND;TZID=UTC+0:20180713T180000
DTSTAMP:20260419T205851
CREATED:20180713T050649Z
LAST-MODIFIED:20180713T050649Z
UID:4124-1531504800-1531504800@galicia.ciudadanos-cs.org
SUMMARY:CAMBRE: Inauguración del Galaicoi
DESCRIPTION:
URL:http://galicia.ciudadanos-cs.org/evento/cambre-inauguracion-del-galaicoi/
CATEGORIES:Actos
END:VEVENT
END:VCALENDAR