BEGIN:VCALENDAR
VERSION:2.0
PRODID:-//Ciudadanos | Galicia - ECPv4.6.7//NONSGML v1.0//EN
CALSCALE:GREGORIAN
METHOD:PUBLISH
X-WR-CALNAME:Ciudadanos | Galicia
X-ORIGINAL-URL:http://galicia.ciudadanos-cs.org
X-WR-CALDESC:Events for Ciudadanos | Galicia
BEGIN:VEVENT
DTSTART;TZID=UTC+0:20180712T200000
DTEND;TZID=UTC+0:20180712T200000
DTSTAMP:20260419T205748
CREATED:20180712T044708Z
LAST-MODIFIED:20180712T044708Z
UID:4101-1531425600-1531425600@galicia.ciudadanos-cs.org
SUMMARY:BOIRO: Pleno
DESCRIPTION:
URL:http://galicia.ciudadanos-cs.org/evento/boiro-pleno/
CATEGORIES:Plenos
END:VEVENT
END:VCALENDAR