BEGIN:VCALENDAR
VERSION:2.0
PRODID:-//Ciudadanos | Galicia - ECPv4.6.7//NONSGML v1.0//EN
CALSCALE:GREGORIAN
METHOD:PUBLISH
X-WR-CALNAME:Ciudadanos | Galicia
X-ORIGINAL-URL:http://galicia.ciudadanos-cs.org
X-WR-CALDESC:Events for Ciudadanos | Galicia
BEGIN:VEVENT
DTSTART;TZID=UTC+0:20180705T200000
DTEND;TZID=UTC+0:20180705T200000
DTSTAMP:20260423T052134
CREATED:20180705T051524Z
LAST-MODIFIED:20180705T051524Z
UID:4033-1530820800-1530820800@galicia.ciudadanos-cs.org
SUMMARY:ARTEIXO: Visita AAVV Armenton
DESCRIPTION:
URL:http://galicia.ciudadanos-cs.org/evento/arteixo-visita-aavv-armenton/
CATEGORIES:Visitas
END:VEVENT
END:VCALENDAR