BEGIN:VCALENDAR
VERSION:2.0
PRODID:-//Ciudadanos | Galicia - ECPv4.6.7//NONSGML v1.0//EN
CALSCALE:GREGORIAN
METHOD:PUBLISH
X-WR-CALNAME:Ciudadanos | Galicia
X-ORIGINAL-URL:http://galicia.ciudadanos-cs.org
X-WR-CALDESC:Events for Ciudadanos | Galicia
BEGIN:VEVENT
DTSTART;TZID=UTC+0:20180424T203000
DTEND;TZID=UTC+0:20180424T203000
DTSTAMP:20260419T122737
CREATED:20180424T052127Z
LAST-MODIFIED:20180424T052127Z
UID:3266-1524601800-1524601800@galicia.ciudadanos-cs.org
SUMMARY:ARTEIXO:  Reunión con AAVV Meicende
DESCRIPTION:
URL:http://galicia.ciudadanos-cs.org/evento/arteixo-reunion-con-aavv-meicende/
CATEGORIES:Reuniones
END:VEVENT
END:VCALENDAR