BEGIN:VCALENDAR
VERSION:2.0
PRODID:-//Ciudadanos | Galicia - ECPv4.6.7//NONSGML v1.0//EN
CALSCALE:GREGORIAN
METHOD:PUBLISH
X-WR-CALNAME:Ciudadanos | Galicia
X-ORIGINAL-URL:http://galicia.ciudadanos-cs.org
X-WR-CALDESC:Events for Ciudadanos | Galicia
BEGIN:VEVENT
DTSTART;TZID=UTC+0:20181122T190000
DTEND;TZID=UTC+0:20181122T200000
DTSTAMP:20260424T135452
CREATED:20181122T074309Z
LAST-MODIFIED:20181122T074309Z
UID:5262-1542913200-1542916800@galicia.ciudadanos-cs.org
SUMMARY:ARTEIXO. Charla Campaña de Sensibilización Igualdade de  Xenero 2018
DESCRIPTION:
URL:http://galicia.ciudadanos-cs.org/evento/arteixo-charla-campana-de-sensibilizacion-igualdade-de-xenero-2018/
CATEGORIES:Charlas
END:VEVENT
END:VCALENDAR